BEGIN:VCALENDAR
VERSION:2.0
PRODID:-//jEvents 2.0 for Joomla//EN
CALSCALE:GREGORIAN
METHOD:PUBLISH
BEGIN:VTIMEZONE
TZID:Europe/Berlin
BEGIN:STANDARD
DTSTART:20231029T020000
RDATE:20240331T030000
TZOFFSETFROM:+0200
TZOFFSETTO:+0100
TZNAME:Europe/Berlin CET
END:STANDARD
BEGIN:STANDARD
DTSTART:20241027T020000
RDATE:20250330T030000
TZOFFSETFROM:+0200
TZOFFSETTO:+0100
TZNAME:Europe/Berlin CET
END:STANDARD
BEGIN:DAYLIGHT
DTSTART:20231026T000000
RDATE:20231029T020000
TZOFFSETFROM:+0100
TZOFFSETTO:+0200
TZNAME:Europe/Berlin CEST
END:DAYLIGHT
BEGIN:DAYLIGHT
DTSTART:20240331T030000
RDATE:20241027T020000
TZOFFSETFROM:+0100
TZOFFSETTO:+0200
TZNAME:Europe/Berlin CEST
END:DAYLIGHT
END:VTIMEZONE
BEGIN:VEVENT
UID:b12664fa2dc1596dcc10013c9e93a673
CATEGORIES:Schützenbruderschaft
SUMMARY:Oktoberfest Anstel
DESCRIPTION;ENCODING=QUOTED-PRINTABLE:\n\n\n\n\nLogen können unter folgender E-Mail-Adresse vorbestellt werden: o
 ktoberfest-anstel @mail.de\n
DTSTAMP:20260420T041644Z
DTSTART;TZID=Europe/Berlin;VALUE=DATE:20241026
DTEND;TZID=Europe/Berlin;VALUE=DATE:20241027
SEQUENCE:0
TRANSP:OPAQUE
END:VEVENT
END:VCALENDAR