BEGIN:VCALENDAR
VERSION:2.0
PRODID:-//jEvents 2.0 for Joomla//EN
CALSCALE:GREGORIAN
METHOD:PUBLISH
BEGIN:VTIMEZONE
TZID:Europe/Berlin
BEGIN:STANDARD
DTSTART:20231029T020000
RDATE:20240331T030000
TZOFFSETFROM:+0200
TZOFFSETTO:+0100
TZNAME:Europe/Berlin CET
END:STANDARD
BEGIN:STANDARD
DTSTART:20241027T020000
RDATE:20250330T030000
TZOFFSETFROM:+0200
TZOFFSETTO:+0100
TZNAME:Europe/Berlin CET
END:STANDARD
BEGIN:DAYLIGHT
DTSTART:20231005T000000
RDATE:20231029T020000
TZOFFSETFROM:+0100
TZOFFSETTO:+0200
TZNAME:Europe/Berlin CEST
END:DAYLIGHT
BEGIN:DAYLIGHT
DTSTART:20240331T030000
RDATE:20241027T020000
TZOFFSETFROM:+0100
TZOFFSETTO:+0200
TZNAME:Europe/Berlin CEST
END:DAYLIGHT
END:VTIMEZONE
BEGIN:VEVENT
UID:43865f557c887a1ee0a353614a6f78f4
CATEGORIES:Schützenbruderschaft
SUMMARY:Konzert - Junge Eifelländer Blasmusik
DESCRIPTION;ENCODING=QUOTED-PRINTABLE:<p>Der Senioren-Klub der Ansteler Bruderschaft feiert in diesem Jahr sein 2
 5-jähriges Bestehen. Um diesen Anlass würdig zu feiern, findet am 05. Oktob
 er ein Konzert der Musikgruppe 'Junge Eifelländer Blasmusik' in der Schütze
 nhalle statt. Einlass ist um 19 Uhr. Beginn 20 Uhr. Karten sind im Vorverka
 uf für 10€ unter 02183 6381 erhältlich.</p>
DTSTAMP:20260419T180306Z
DTSTART;TZID=Europe/Berlin;VALUE=DATE:20241005
DTEND;TZID=Europe/Berlin;VALUE=DATE:20241006
SEQUENCE:0
TRANSP:OPAQUE
END:VEVENT
END:VCALENDAR