BEGIN:VCALENDAR
VERSION:2.0
PRODID:-//jEvents 2.0 for Joomla//EN
CALSCALE:GREGORIAN
METHOD:PUBLISH
BEGIN:VTIMEZONE
TZID:Europe/Berlin
BEGIN:STANDARD
DTSTART:20240314T000000
RDATE:20240331T030000
TZOFFSETFROM:+0200
TZOFFSETTO:+0100
TZNAME:Europe/Berlin CET
END:STANDARD
BEGIN:STANDARD
DTSTART:20241027T020000
RDATE:20250330T030000
TZOFFSETFROM:+0200
TZOFFSETTO:+0100
TZNAME:Europe/Berlin CET
END:STANDARD
BEGIN:DAYLIGHT
DTSTART:20240331T030000
RDATE:20241027T020000
TZOFFSETFROM:+0100
TZOFFSETTO:+0200
TZNAME:Europe/Berlin CEST
END:DAYLIGHT
END:VTIMEZONE
BEGIN:VEVENT
UID:f31a7b9b26ae49e4274fd6e368ef297e
CATEGORIES:Schützenbruderschaft
SUMMARY:Ewiges Gebet
DESCRIPTION;ENCODING=QUOTED-PRINTABLE:
DTSTAMP:20260422T151856Z
DTSTART;TZID=Europe/Berlin;VALUE=DATE:20250315
DTEND;TZID=Europe/Berlin;VALUE=DATE:20250316
SEQUENCE:0
TRANSP:OPAQUE
END:VEVENT
END:VCALENDAR