BEGIN:VCALENDAR
VERSION:2.0
PRODID:-//jEvents 2.0 for Joomla//EN
CALSCALE:GREGORIAN
METHOD:PUBLISH
BEGIN:VTIMEZONE
TZID:Europe/Berlin
BEGIN:STANDARD
DTSTART:20241027T020000
RDATE:20250330T030000
TZOFFSETFROM:+0200
TZOFFSETTO:+0100
TZNAME:Europe/Berlin CET
END:STANDARD
BEGIN:DAYLIGHT
DTSTART:20240528T000000
RDATE:20241027T020000
TZOFFSETFROM:+0100
TZOFFSETTO:+0200
TZNAME:Europe/Berlin CEST
END:DAYLIGHT
END:VTIMEZONE
BEGIN:VEVENT
UID:b9efd8005c557fb62fedf2ee90e3fbfe
CATEGORIES:Schützenbruderschaft
SUMMARY:Dorffest
DESCRIPTION;ENCODING=QUOTED-PRINTABLE:
DTSTAMP:20260422T154330Z
DTSTART;TZID=Europe/Berlin;VALUE=DATE:20250529
DTEND;TZID=Europe/Berlin;VALUE=DATE:20250530
SEQUENCE:0
TRANSP:OPAQUE
END:VEVENT
END:VCALENDAR