BEGIN:VCALENDAR
VERSION:2.0
PRODID:-//jEvents 2.0 for Joomla//EN
CALSCALE:GREGORIAN
METHOD:PUBLISH
BEGIN:VTIMEZONE
TZID:Europe/Berlin
BEGIN:STANDARD
DTSTART:20241127T000000
RDATE:20250330T030000
TZOFFSETFROM:+0200
TZOFFSETTO:+0100
TZNAME:Europe/Berlin CET
END:STANDARD
END:VTIMEZONE
BEGIN:VEVENT
UID:2592ad5f2c41fc5ecf50b98560b07910
CATEGORIES:Schützenbruderschaft
SUMMARY:Weihnachtsbaum-Aufstellen
DESCRIPTION;ENCODING=QUOTED-PRINTABLE:
DTSTAMP:20260422T115320Z
DTSTART;TZID=Europe/Berlin;VALUE=DATE:20251128
DTEND;TZID=Europe/Berlin;VALUE=DATE:20251129
SEQUENCE:0
TRANSP:OPAQUE
END:VEVENT
END:VCALENDAR