BEGIN:VCALENDAR
VERSION:2.0
PRODID:-//jEvents 2.0 for Joomla//EN
CALSCALE:GREGORIAN
METHOD:PUBLISH
BEGIN:VTIMEZONE
TZID:Europe/Berlin
BEGIN:STANDARD
DTSTART:20131217T000000
RDATE:20140330T030000
TZOFFSETFROM:+0200
TZOFFSETTO:+0100
TZNAME:Europe/Berlin CET
END:STANDARD
BEGIN:STANDARD
DTSTART:20141026T020000
RDATE:20150329T030000
TZOFFSETFROM:+0200
TZOFFSETTO:+0100
TZNAME:Europe/Berlin CET
END:STANDARD
BEGIN:STANDARD
DTSTART:20151025T020000
RDATE:20160327T030000
TZOFFSETFROM:+0200
TZOFFSETTO:+0100
TZNAME:Europe/Berlin CET
END:STANDARD
BEGIN:STANDARD
DTSTART:20161030T020000
RDATE:20170326T030000
TZOFFSETFROM:+0200
TZOFFSETTO:+0100
TZNAME:Europe/Berlin CET
END:STANDARD
BEGIN:STANDARD
DTSTART:20171029T020000
RDATE:20180325T030000
TZOFFSETFROM:+0200
TZOFFSETTO:+0100
TZNAME:Europe/Berlin CET
END:STANDARD
BEGIN:STANDARD
DTSTART:20181028T020000
RDATE:20190331T030000
TZOFFSETFROM:+0200
TZOFFSETTO:+0100
TZNAME:Europe/Berlin CET
END:STANDARD
BEGIN:STANDARD
DTSTART:20191027T020000
RDATE:20200329T030000
TZOFFSETFROM:+0200
TZOFFSETTO:+0100
TZNAME:Europe/Berlin CET
END:STANDARD
BEGIN:STANDARD
DTSTART:20201025T020000
RDATE:20210328T030000
TZOFFSETFROM:+0200
TZOFFSETTO:+0100
TZNAME:Europe/Berlin CET
END:STANDARD
BEGIN:STANDARD
DTSTART:20211031T020000
RDATE:20220327T030000
TZOFFSETFROM:+0200
TZOFFSETTO:+0100
TZNAME:Europe/Berlin CET
END:STANDARD
BEGIN:STANDARD
DTSTART:20221030T020000
RDATE:20230326T030000
TZOFFSETFROM:+0200
TZOFFSETTO:+0100
TZNAME:Europe/Berlin CET
END:STANDARD
BEGIN:STANDARD
DTSTART:20231029T020000
RDATE:20240331T030000
TZOFFSETFROM:+0200
TZOFFSETTO:+0100
TZNAME:Europe/Berlin CET
END:STANDARD
BEGIN:STANDARD
DTSTART:20241027T020000
RDATE:20250330T030000
TZOFFSETFROM:+0200
TZOFFSETTO:+0100
TZNAME:Europe/Berlin CET
END:STANDARD
BEGIN:DAYLIGHT
DTSTART:20140330T030000
RDATE:20141026T020000
TZOFFSETFROM:+0100
TZOFFSETTO:+0200
TZNAME:Europe/Berlin CEST
END:DAYLIGHT
BEGIN:DAYLIGHT
DTSTART:20150329T030000
RDATE:20151025T020000
TZOFFSETFROM:+0100
TZOFFSETTO:+0200
TZNAME:Europe/Berlin CEST
END:DAYLIGHT
BEGIN:DAYLIGHT
DTSTART:20160327T030000
RDATE:20161030T020000
TZOFFSETFROM:+0100
TZOFFSETTO:+0200
TZNAME:Europe/Berlin CEST
END:DAYLIGHT
BEGIN:DAYLIGHT
DTSTART:20170326T030000
RDATE:20171029T020000
TZOFFSETFROM:+0100
TZOFFSETTO:+0200
TZNAME:Europe/Berlin CEST
END:DAYLIGHT
BEGIN:DAYLIGHT
DTSTART:20180325T030000
RDATE:20181028T020000
TZOFFSETFROM:+0100
TZOFFSETTO:+0200
TZNAME:Europe/Berlin CEST
END:DAYLIGHT
BEGIN:DAYLIGHT
DTSTART:20190331T030000
RDATE:20191027T020000
TZOFFSETFROM:+0100
TZOFFSETTO:+0200
TZNAME:Europe/Berlin CEST
END:DAYLIGHT
BEGIN:DAYLIGHT
DTSTART:20200329T030000
RDATE:20201025T020000
TZOFFSETFROM:+0100
TZOFFSETTO:+0200
TZNAME:Europe/Berlin CEST
END:DAYLIGHT
BEGIN:DAYLIGHT
DTSTART:20210328T030000
RDATE:20211031T020000
TZOFFSETFROM:+0100
TZOFFSETTO:+0200
TZNAME:Europe/Berlin CEST
END:DAYLIGHT
BEGIN:DAYLIGHT
DTSTART:20220327T030000
RDATE:20221030T020000
TZOFFSETFROM:+0100
TZOFFSETTO:+0200
TZNAME:Europe/Berlin CEST
END:DAYLIGHT
BEGIN:DAYLIGHT
DTSTART:20230326T030000
RDATE:20231029T020000
TZOFFSETFROM:+0100
TZOFFSETTO:+0200
TZNAME:Europe/Berlin CEST
END:DAYLIGHT
BEGIN:DAYLIGHT
DTSTART:20240331T030000
RDATE:20241027T020000
TZOFFSETFROM:+0100
TZOFFSETTO:+0200
TZNAME:Europe/Berlin CEST
END:DAYLIGHT
END:VTIMEZONE
BEGIN:VEVENT
UID:d19beb2d75fe01f0165c659758c75868
CATEGORIES:Schützenbruderschaft
SUMMARY:Senioren Weihnachtsfeier 2014
DESCRIPTION;ENCODING=QUOTED-PRINTABLE:\n\n \n\n\n„Turmbläser von St. Martinus“ zu Gast beim Ansteler Senioren-Klu
 b\n\n\n \n\n\nBereits zum 16. mal veranstaltet der Ansteler Senioren-Klub e
 ine Weihnachtsfeier. In diesem Jahr sind alle Seniorinnen und Senioren ab d
 em 60. Lebensjahr hierzu am Donnerstag, dem 18. Dezember 2014 herzlich eing
 eladen. Um 17.00 Uhr beginnt die Feier in der vom Senioren-Beirat entsprech
 end liebevoll geschmückten Schützenhalle an der Lindenstraße. Bürgermeister
  Dr. Martin Mertens und Altbürgermeister Albert Glöckner sind ebenso wie De
 chant Monsignore Franz Josef Freericks eingeladen. Mit dabei sind in diesem
  Jahr auch die „Turmbläser von St. Martinus" Nettesheim die mit kompletter 
 Besetzung (Friedhelm Winkels, Ralf Berger und Peter Mahr Trompete; Joachim 
 Winkels Tenorhorn; Bernhard Steffens Posaune; Karl Josef Kempen Tuba und Ma
 rco Winkels Schlagzeug) für die festliche, musikalische Umrahmung sorgen we
 rden.\n\n\n \n\n\nZu beginn der Seniorenfeier gibt es Kaffe, Plätzchen und 
 Gebäck und nach dem offiziellen Teil sind alle Anwesenden zum „Kalten Buffe
 t" eingeladen zu dem auch entsprechende Kaltgetränke gereicht werden. Auf d
 er fest installierten Großleinwand werden im letzten Drittel der Veranstalt
 ung Fotoaufnahmen von Seniorenveranstaltungen vergangener Jahre zu sehen se
 in. Anmeldungen zur Weihnachtsfeier nimmt Peter Mahr unter Tel. 63 81 gerne
  entgegen.\n\n\n \n\n\n„Auch im kommenden Jahr dürfte für die Ansteler Seni
 oren der ein oder andere Termin wieder von großem Interesse sein", verspric
 ht Seniorenbeauftragter Mahr. Am 20. März ist Frühlingsanfang, deshalb steh
 t die Nachtwanderung am 19. März unter dem Motto –wir wandern in den Frühli
 ng–. Weiter geht es am 21. Mai mit einer Fahrradtour und am 16. Juli findet
  die Grillfete auf dem Schützenplatz statt. An diesem Tag wird auch der neu
 e Seniorenkönig ermittelt der den amtierenden König Heinz Spaar ablösen wir
 d. „Ein Höhepunkt in 2015 wird die Fertigstellung des Dorfplatzes, Wasserbu
 rgstraße / Ecke Langer Berg sein", sagt Peter Mahr amtierender Schützenköni
 g der Bruderschaft. „Die Einweihung ist für Samstag, 15. August, am Tag Mar
 iä Himmelfahrt geplant". Im November steht dann wieder das St. Martinsfest 
 und am 14. Dezember die Weihnachtsfeier auf dem Programm. Alle Termine werd
 en aber noch mit dem Bezirks- und Bruderschaftskalender abgestimmt, so dass
  Änderungen vorbehalten bleiben.\n\n\n \n\n\n\n\n\n \n\n\n\n \n\n\n \n
DTSTAMP:20260426T012322Z
DTSTART;TZID=Europe/Berlin;VALUE=DATE:20141218
DTEND;TZID=Europe/Berlin;VALUE=DATE:20141219
SEQUENCE:0
TRANSP:OPAQUE
END:VEVENT
END:VCALENDAR